BEGIN:VCALENDAR
VERSION:2.0
PRODID:-//wp-events-plugin.com//7.2.3.1//EN
TZID:America/Toronto
X-WR-TIMEZONE:America/Toronto
BEGIN:VEVENT
UID:41@domainedureve.com
DTSTART;TZID=America/Toronto;VALUE=DATE:20260613
DTEND;TZID=America/Toronto;VALUE=DATE:20260614
DTSTAMP:20260107T005023Z
URL:https://domainedureve.com/evenements/ouverture-de-la-piscine-course-co
 uleureve-soiree-dansante/
SUMMARY:Ouverture de la piscine/ Course CouleuRêve / Soirée dansante sur 
 le thème "Les années 80"
DESCRIPTION:Ouverture de la piscine/ Course CouleuRêve / Soirée dansante 
 sur le thème "Les années 80"
ATTACH;FMTTYPE=image/jpeg:https://domainedureve.com/wp-content/uploads/202
 4/05/disco-2.png
CATEGORIES:Juin
END:VEVENT
BEGIN:VTIMEZONE
TZID:America/Toronto
X-LIC-LOCATION:America/Toronto
BEGIN:DAYLIGHT
DTSTART:20260308T030000
TZOFFSETFROM:-0500
TZOFFSETTO:-0400
TZNAME:EDT
END:DAYLIGHT
END:VTIMEZONE
END:VCALENDAR